BEGIN:VCALENDAR
VERSION:2.0
PRODID:-//Muurhuizen - ECPv6.15.17//NONSGML v1.0//EN
CALSCALE:GREGORIAN
METHOD:PUBLISH
X-WR-CALNAME:Muurhuizen
X-ORIGINAL-URL:https://muurhuizen.nl
X-WR-CALDESC:Evenementen voor Muurhuizen
REFRESH-INTERVAL;VALUE=DURATION:PT1H
X-Robots-Tag:noindex
X-PUBLISHED-TTL:PT1H
BEGIN:VTIMEZONE
TZID:Europe/Amsterdam
BEGIN:DAYLIGHT
TZOFFSETFROM:+0100
TZOFFSETTO:+0200
TZNAME:CEST
DTSTART:20230326T010000
END:DAYLIGHT
BEGIN:STANDARD
TZOFFSETFROM:+0200
TZOFFSETTO:+0100
TZNAME:CET
DTSTART:20231029T010000
END:STANDARD
BEGIN:DAYLIGHT
TZOFFSETFROM:+0100
TZOFFSETTO:+0200
TZNAME:CEST
DTSTART:20240331T010000
END:DAYLIGHT
BEGIN:STANDARD
TZOFFSETFROM:+0200
TZOFFSETTO:+0100
TZNAME:CET
DTSTART:20241027T010000
END:STANDARD
BEGIN:DAYLIGHT
TZOFFSETFROM:+0100
TZOFFSETTO:+0200
TZNAME:CEST
DTSTART:20250330T010000
END:DAYLIGHT
BEGIN:STANDARD
TZOFFSETFROM:+0200
TZOFFSETTO:+0100
TZNAME:CET
DTSTART:20251026T010000
END:STANDARD
BEGIN:DAYLIGHT
TZOFFSETFROM:+0100
TZOFFSETTO:+0200
TZNAME:CEST
DTSTART:20260329T010000
END:DAYLIGHT
BEGIN:STANDARD
TZOFFSETFROM:+0200
TZOFFSETTO:+0100
TZNAME:CET
DTSTART:20261025T010000
END:STANDARD
END:VTIMEZONE
BEGIN:VEVENT
DTSTART;TZID=Europe/Amsterdam:20241203T140000
DTEND;TZID=Europe/Amsterdam:20241203T160000
DTSTAMP:20260421T114535
CREATED:20241102T141033Z
LAST-MODIFIED:20241102T141207Z
UID:20092-1733234400-1733241600@muurhuizen.nl
SUMMARY:ROC Creative College M3 CKV
DESCRIPTION:
URL:https://muurhuizen.nl/agenda/roc-creative-college-m3-ckv-2/
END:VEVENT
BEGIN:VEVENT
DTSTART;TZID=Europe/Amsterdam:20241205T130000
DTEND;TZID=Europe/Amsterdam:20241205T150000
DTSTAMP:20260421T114535
CREATED:20240708T091244Z
LAST-MODIFIED:20241203T090636Z
UID:19346-1733403600-1733410800@muurhuizen.nl
SUMMARY:Sinterklaasviering 🎁
DESCRIPTION:’s Ochtends zijn er lessen. Vanaf 13.00 uur Sintactiviteit.Leerjaar 1 t/m 3 doet het Sint Dobbelspel met een klein gekocht cadeautje en nog iets ingepakt wat je thuis over hebt.\nLeerjaar 4 doet de Sint pubquiz.
URL:https://muurhuizen.nl/agenda/sinterklaas-%f0%9f%8e%81/
CATEGORIES:activiteit
END:VEVENT
BEGIN:VEVENT
DTSTART;VALUE=DATE:20241209
DTEND;VALUE=DATE:20241210
DTSTAMP:20260421T114535
CREATED:20240708T091635Z
LAST-MODIFIED:20240708T091650Z
UID:19351-1733702400-1733788799@muurhuizen.nl
SUMMARY:Herkansen toetsweek Mavo 4\, Havo 4 en 5
DESCRIPTION:
URL:https://muurhuizen.nl/agenda/herkanzen-toetsweek-mavo-4-havo-4-en-5/
LOCATION:Muurhuizen\, Zangvogelweg 4\, Amersfoort\, Utrecht\, 3815 DL
CATEGORIES:toetsweek
END:VEVENT
BEGIN:VEVENT
DTSTART;VALUE=DATE:20241210
DTEND;VALUE=DATE:20241211
DTSTAMP:20260421T114535
CREATED:20240708T092143Z
LAST-MODIFIED:20240708T092154Z
UID:19356-1733788800-1733875199@muurhuizen.nl
SUMMARY:Foute kersttruiendag 🦌
DESCRIPTION:Wie heeft de meest foute? 🎅🎄
URL:https://muurhuizen.nl/agenda/foute-kersttruiendag-%f0%9f%a6%8c/
END:VEVENT
BEGIN:VEVENT
DTSTART;VALUE=DATE:20241213
DTEND;VALUE=DATE:20241214
DTSTAMP:20260421T114535
CREATED:20241102T141526Z
LAST-MODIFIED:20241102T141526Z
UID:20094-1734048000-1734134399@muurhuizen.nl
SUMMARY:Paarse Vrijdag
DESCRIPTION:
URL:https://muurhuizen.nl/agenda/paarse-vrijdag-2/
END:VEVENT
BEGIN:VEVENT
DTSTART;VALUE=DATE:20241219
DTEND;VALUE=DATE:20241220
DTSTAMP:20260421T114535
CREATED:20240708T092533Z
LAST-MODIFIED:20240708T092702Z
UID:19359-1734566400-1734652799@muurhuizen.nl
SUMMARY:Kerstgala🪩
DESCRIPTION:Smokings en galajurken uit de kast\,✨ dansschoenen aan💃🕺🏾\, het is weer tijd voor het Muurhuizen kerstgala. 🪩🎄🎶
URL:https://muurhuizen.nl/agenda/kerstgala-2/
LOCATION:Muurhuizen\, Zangvogelweg 4\, Amersfoort\, Utrecht\, 3815 DL
END:VEVENT
BEGIN:VEVENT
DTSTART;TZID=Europe/Amsterdam:20241220T100000
DTEND;TZID=Europe/Amsterdam:20241220T120000
DTSTAMP:20260421T114535
CREATED:20240708T092819Z
LAST-MODIFIED:20240708T101532Z
UID:19363-1734688800-1734696000@muurhuizen.nl
SUMMARY:Kerstactiviteiten 🎄
DESCRIPTION:Diverse activiteiten alle leerjaren.
URL:https://muurhuizen.nl/agenda/kerstviering-%f0%9f%8e%84/
CATEGORIES:activiteit
END:VEVENT
BEGIN:VEVENT
DTSTART;VALUE=DATE:20241223
DTEND;VALUE=DATE:20250104
DTSTAMP:20260421T114535
CREATED:20240708T093115Z
LAST-MODIFIED:20240708T094929Z
UID:19365-1734912000-1735948799@muurhuizen.nl
SUMMARY:Kerstvakantie ☃️
DESCRIPTION:Fijne kerstvakantie!
URL:https://muurhuizen.nl/agenda/kerstvakantie-%e2%98%83%ef%b8%8f/
CATEGORIES:vakantie
END:VEVENT
END:VCALENDAR