BEGIN:VCALENDAR
VERSION:2.0
PRODID:-//Muurhuizen - ECPv6.15.17//NONSGML v1.0//EN
CALSCALE:GREGORIAN
METHOD:PUBLISH
X-WR-CALNAME:Muurhuizen
X-ORIGINAL-URL:https://muurhuizen.nl
X-WR-CALDESC:Evenementen voor Muurhuizen
REFRESH-INTERVAL;VALUE=DURATION:PT1H
X-Robots-Tag:noindex
X-PUBLISHED-TTL:PT1H
BEGIN:VTIMEZONE
TZID:Europe/Amsterdam
BEGIN:DAYLIGHT
TZOFFSETFROM:+0100
TZOFFSETTO:+0200
TZNAME:CEST
DTSTART:20220327T010000
END:DAYLIGHT
BEGIN:STANDARD
TZOFFSETFROM:+0200
TZOFFSETTO:+0100
TZNAME:CET
DTSTART:20221030T010000
END:STANDARD
BEGIN:DAYLIGHT
TZOFFSETFROM:+0100
TZOFFSETTO:+0200
TZNAME:CEST
DTSTART:20230326T010000
END:DAYLIGHT
BEGIN:STANDARD
TZOFFSETFROM:+0200
TZOFFSETTO:+0100
TZNAME:CET
DTSTART:20231029T010000
END:STANDARD
BEGIN:DAYLIGHT
TZOFFSETFROM:+0100
TZOFFSETTO:+0200
TZNAME:CEST
DTSTART:20240331T010000
END:DAYLIGHT
BEGIN:STANDARD
TZOFFSETFROM:+0200
TZOFFSETTO:+0100
TZNAME:CET
DTSTART:20241027T010000
END:STANDARD
END:VTIMEZONE
BEGIN:VEVENT
DTSTART;VALUE=DATE:20231011
DTEND;VALUE=DATE:20231012
DTSTAMP:20260420T163319
CREATED:20230928T122725Z
LAST-MODIFIED:20231009T095454Z
UID:16310-1696982400-1697068799@muurhuizen.nl
SUMMARY:Coming Out Day
DESCRIPTION:Coming Out Day 11 oktober – Mavo Muurhuizen
URL:https://muurhuizen.nl/agenda/coming-out-day/
END:VEVENT
BEGIN:VEVENT
DTSTART;VALUE=DATE:20231010
DTEND;VALUE=DATE:20231011
DTSTAMP:20260420T163319
CREATED:20230928T122547Z
LAST-MODIFIED:20230928T122547Z
UID:16307-1696896000-1696982399@muurhuizen.nl
SUMMARY:Bezoek Groene huis leerjaar 2
DESCRIPTION:
URL:https://muurhuizen.nl/agenda/bezoek-groene-huis-leerjaar-2/
END:VEVENT
BEGIN:VEVENT
DTSTART;VALUE=DATE:20231009
DTEND;VALUE=DATE:20231014
DTSTAMP:20260420T163319
CREATED:20230829T075629Z
LAST-MODIFIED:20230928T122226Z
UID:15964-1696809600-1697241599@muurhuizen.nl
SUMMARY:Werkweek Mavo 4 en Havo 5
DESCRIPTION:
URL:https://muurhuizen.nl/agenda/werkweek-mavo-4-en-havo-5/
CATEGORIES:activiteit
END:VEVENT
BEGIN:VEVENT
DTSTART;VALUE=DATE:20231004
DTEND;VALUE=DATE:20231005
DTSTAMP:20260420T163319
CREATED:20230928T121954Z
LAST-MODIFIED:20230928T121954Z
UID:16305-1696377600-1696463999@muurhuizen.nl
SUMMARY:T voor tech voor leerjaar 2
DESCRIPTION:
URL:https://muurhuizen.nl/agenda/t-voor-tech-voor-leerjaar-2/
END:VEVENT
BEGIN:VEVENT
DTSTART;VALUE=DATE:20231003
DTEND;VALUE=DATE:20231004
DTSTAMP:20260420T163319
CREATED:20230928T121549Z
LAST-MODIFIED:20230928T121549Z
UID:16302-1696291200-1696377599@muurhuizen.nl
SUMMARY:Terugkomdag schoolfotograaf
DESCRIPTION:Iedereen die nog niet op de foto is geweest kan deze dag alsnog op de foto.
URL:https://muurhuizen.nl/agenda/terugkomdag-schoolfotograaf/
END:VEVENT
BEGIN:VEVENT
DTSTART;VALUE=DATE:20230928
DTEND;VALUE=DATE:20230929
DTSTAMP:20260420T163319
CREATED:20230829T075055Z
LAST-MODIFIED:20230928T121311Z
UID:15959-1695859200-1695945599@muurhuizen.nl
SUMMARY:Activiteitendag Mavo 1 t/m 4 en Havo 4 en 5
DESCRIPTION:
URL:https://muurhuizen.nl/agenda/activiteitendag-mavo-en-havo/
CATEGORIES:activiteit
END:VEVENT
BEGIN:VEVENT
DTSTART;VALUE=DATE:20230911
DTEND;VALUE=DATE:20230913
DTSTAMP:20260420T163319
CREATED:20230829T073825Z
LAST-MODIFIED:20230829T073825Z
UID:15957-1694473200-1694559599@muurhuizen.nl
SUMMARY:Schoolfotograaf
DESCRIPTION:
URL:https://muurhuizen.nl/agenda/schoolfotograaf/
END:VEVENT
BEGIN:VEVENT
DTSTART;TZID=Europe/Amsterdam:20230905T190000
DTEND;TZID=Europe/Amsterdam:20230905T210000
DTSTAMP:20260420T163319
CREATED:20230829T071423Z
LAST-MODIFIED:20230928T121022Z
UID:15955-1693940400-1693947600@muurhuizen.nl
SUMMARY:Kennismakingsavond Mavo 2\, 3\, 4 en Havo 4/5
DESCRIPTION:
URL:https://muurhuizen.nl/agenda/kennismakingsavond-mavo-2-3-4-en-havo-4-5/
LOCATION:Muurhuizen\, Zangvogelweg 4\, Amersfoort\, Utrecht\, 3815 DL
END:VEVENT
BEGIN:VEVENT
DTSTART;VALUE=DATE:20230617
DTEND;VALUE=DATE:20230618
DTSTAMP:20260420T163319
CREATED:20231003T133036Z
LAST-MODIFIED:20231003T133036Z
UID:16421-1686960000-1687046399@muurhuizen.nl
SUMMARY:Inhalen toetsweek mavo 3 + havo 4
DESCRIPTION:
URL:https://muurhuizen.nl/agenda/inhalen-toetsweek-mavo-3-havo-4-2/
CATEGORIES:toetsweek
END:VEVENT
BEGIN:VEVENT
DTSTART;VALUE=DATE:20230410
DTEND;VALUE=DATE:20231004
DTSTAMP:20260420T163319
CREATED:20231003T124452Z
LAST-MODIFIED:20231003T124452Z
UID:16397-1681084800-1696377599@muurhuizen.nl
SUMMARY:Cito deel 2 leerjaar 2
DESCRIPTION:
URL:https://muurhuizen.nl/agenda/cito-deel-2-leerjaar-2/
CATEGORIES:toetsweek
END:VEVENT
BEGIN:VEVENT
DTSTART;VALUE=DATE:20230410
DTEND;VALUE=DATE:20230411
DTSTAMP:20260420T163319
CREATED:20231003T125245Z
LAST-MODIFIED:20231003T125245Z
UID:16399-1681084800-1681171199@muurhuizen.nl
SUMMARY:Cito deel 2 leerjaar 2
DESCRIPTION:
URL:https://muurhuizen.nl/agenda/cito-deel-2-leerjaar-2-2/
CATEGORIES:toetsweek
END:VEVENT
END:VCALENDAR