BEGIN:VCALENDAR
VERSION:2.0
PRODID:-//Muurhuizen - ECPv6.15.17//NONSGML v1.0//EN
CALSCALE:GREGORIAN
METHOD:PUBLISH
X-WR-CALNAME:Muurhuizen
X-ORIGINAL-URL:https://muurhuizen.nl
X-WR-CALDESC:Evenementen voor Muurhuizen
REFRESH-INTERVAL;VALUE=DURATION:PT1H
X-Robots-Tag:noindex
X-PUBLISHED-TTL:PT1H
BEGIN:VTIMEZONE
TZID:Europe/Amsterdam
BEGIN:DAYLIGHT
TZOFFSETFROM:+0100
TZOFFSETTO:+0200
TZNAME:CEST
DTSTART:20230326T010000
END:DAYLIGHT
BEGIN:STANDARD
TZOFFSETFROM:+0200
TZOFFSETTO:+0100
TZNAME:CET
DTSTART:20231029T010000
END:STANDARD
BEGIN:DAYLIGHT
TZOFFSETFROM:+0100
TZOFFSETTO:+0200
TZNAME:CEST
DTSTART:20240331T010000
END:DAYLIGHT
BEGIN:STANDARD
TZOFFSETFROM:+0200
TZOFFSETTO:+0100
TZNAME:CET
DTSTART:20241027T010000
END:STANDARD
BEGIN:DAYLIGHT
TZOFFSETFROM:+0100
TZOFFSETTO:+0200
TZNAME:CEST
DTSTART:20250330T010000
END:DAYLIGHT
BEGIN:STANDARD
TZOFFSETFROM:+0200
TZOFFSETTO:+0100
TZNAME:CET
DTSTART:20251026T010000
END:STANDARD
END:VTIMEZONE
BEGIN:VEVENT
DTSTART;VALUE=DATE:20240313
DTEND;VALUE=DATE:20240314
DTSTAMP:20260425T135104
CREATED:20230929T121058Z
LAST-MODIFIED:20230929T121207Z
UID:16351-1710288000-1710374399@muurhuizen.nl
SUMMARY:Informatie-avond profielkeuze leerjaar 2
DESCRIPTION:
URL:https://muurhuizen.nl/agenda/informatie-avond-profielkeuze-leerjaar-2/
CATEGORIES:Ouders
END:VEVENT
BEGIN:VEVENT
DTSTART;TZID=Europe/Amsterdam:20240327T193000
DTEND;TZID=Europe/Amsterdam:20240327T213000
DTSTAMP:20260425T135104
CREATED:20230929T123853Z
LAST-MODIFIED:20230929T123923Z
UID:16369-1711567800-1711575000@muurhuizen.nl
SUMMARY:Bijeenkomst ouderraad
DESCRIPTION:
URL:https://muurhuizen.nl/agenda/bijeenkomst-ouderraad-3/
CATEGORIES:Ouders
END:VEVENT
END:VCALENDAR