BEGIN:VCALENDAR
VERSION:2.0
PRODID:-//Muurhuizen - ECPv6.15.17//NONSGML v1.0//EN
CALSCALE:GREGORIAN
METHOD:PUBLISH
X-ORIGINAL-URL:https://muurhuizen.nl
X-WR-CALDESC:Evenementen voor Muurhuizen
REFRESH-INTERVAL;VALUE=DURATION:PT1H
X-Robots-Tag:noindex
X-PUBLISHED-TTL:PT1H
BEGIN:VTIMEZONE
TZID:Europe/Amsterdam
BEGIN:DAYLIGHT
TZOFFSETFROM:+0100
TZOFFSETTO:+0200
TZNAME:CEST
DTSTART:20230326T010000
END:DAYLIGHT
BEGIN:STANDARD
TZOFFSETFROM:+0200
TZOFFSETTO:+0100
TZNAME:CET
DTSTART:20231029T010000
END:STANDARD
BEGIN:DAYLIGHT
TZOFFSETFROM:+0100
TZOFFSETTO:+0200
TZNAME:CEST
DTSTART:20240331T010000
END:DAYLIGHT
BEGIN:STANDARD
TZOFFSETFROM:+0200
TZOFFSETTO:+0100
TZNAME:CET
DTSTART:20241027T010000
END:STANDARD
BEGIN:DAYLIGHT
TZOFFSETFROM:+0100
TZOFFSETTO:+0200
TZNAME:CEST
DTSTART:20250330T010000
END:DAYLIGHT
BEGIN:STANDARD
TZOFFSETFROM:+0200
TZOFFSETTO:+0100
TZNAME:CET
DTSTART:20251026T010000
END:STANDARD
END:VTIMEZONE
BEGIN:VEVENT
DTSTART;TZID=Europe/Amsterdam:20240116T190000
DTEND;TZID=Europe/Amsterdam:20240116T203000
DTSTAMP:20260425T171103
CREATED:20230830T102548Z
LAST-MODIFIED:20230929T114617Z
UID:16048-1705431600-1705437000@muurhuizen.nl
SUMMARY:Ouderarena
DESCRIPTION:
URL:https://muurhuizen.nl/agenda/ouderarena/
CATEGORIES:Ouders
END:VEVENT
BEGIN:VEVENT
DTSTART;TZID=Europe/Amsterdam:20240118T183000
DTEND;TZID=Europe/Amsterdam:20240118T210000
DTSTAMP:20260425T171103
CREATED:20230830T065939Z
LAST-MODIFIED:20230929T114837Z
UID:15990-1705602600-1705611600@muurhuizen.nl
SUMMARY:Profielwerkstuk presentaties Havo 5
DESCRIPTION:
URL:https://muurhuizen.nl/agenda/profielwerkstukpresentaties-havo-5/
LOCATION:Muurhuizen\, Zangvogelweg 4\, Amersfoort\, Utrecht\, 3815 DL
CATEGORIES:Ouders
END:VEVENT
BEGIN:VEVENT
DTSTART;TZID=Europe/Amsterdam:20240124T193000
DTEND;TZID=Europe/Amsterdam:20240124T213000
DTSTAMP:20260425T171103
CREATED:20230929T115527Z
LAST-MODIFIED:20230929T115612Z
UID:16342-1706124600-1706131800@muurhuizen.nl
SUMMARY:Bijeenkomst ouderraad
DESCRIPTION:
URL:https://muurhuizen.nl/agenda/bijeenkomst-ouderraad-2/
CATEGORIES:Ouders
END:VEVENT
END:VCALENDAR