BEGIN:VCALENDAR
VERSION:2.0
PRODID:-//Muurhuizen - ECPv6.15.17//NONSGML v1.0//EN
CALSCALE:GREGORIAN
METHOD:PUBLISH
X-ORIGINAL-URL:https://muurhuizen.nl
X-WR-CALDESC:Evenementen voor Muurhuizen
REFRESH-INTERVAL;VALUE=DURATION:PT1H
X-Robots-Tag:noindex
X-PUBLISHED-TTL:PT1H
BEGIN:VTIMEZONE
TZID:Europe/Amsterdam
BEGIN:DAYLIGHT
TZOFFSETFROM:+0100
TZOFFSETTO:+0200
TZNAME:CEST
DTSTART:20220327T010000
END:DAYLIGHT
BEGIN:STANDARD
TZOFFSETFROM:+0200
TZOFFSETTO:+0100
TZNAME:CET
DTSTART:20221030T010000
END:STANDARD
BEGIN:DAYLIGHT
TZOFFSETFROM:+0100
TZOFFSETTO:+0200
TZNAME:CEST
DTSTART:20230326T010000
END:DAYLIGHT
BEGIN:STANDARD
TZOFFSETFROM:+0200
TZOFFSETTO:+0100
TZNAME:CET
DTSTART:20231029T010000
END:STANDARD
BEGIN:DAYLIGHT
TZOFFSETFROM:+0100
TZOFFSETTO:+0200
TZNAME:CEST
DTSTART:20240331T010000
END:DAYLIGHT
BEGIN:STANDARD
TZOFFSETFROM:+0200
TZOFFSETTO:+0100
TZNAME:CET
DTSTART:20241027T010000
END:STANDARD
END:VTIMEZONE
BEGIN:VEVENT
DTSTART;VALUE=DATE:20231205
DTEND;VALUE=DATE:20231206
DTSTAMP:20260423T130121
CREATED:20230929T112235Z
LAST-MODIFIED:20230929T112235Z
UID:16328-1701734400-1701820799@muurhuizen.nl
SUMMARY:Sint-activiteit
DESCRIPTION:Tijden nog niet bekend.
URL:https://muurhuizen.nl/agenda/sint-activiteit/
CATEGORIES:activiteit
END:VEVENT
BEGIN:VEVENT
DTSTART;TZID=Europe/Amsterdam:20231221T200000
DTEND;TZID=Europe/Amsterdam:20231221T230000
DTSTAMP:20260423T130121
CREATED:20230829T063014Z
LAST-MODIFIED:20230929T112918Z
UID:15981-1703188800-1703199600@muurhuizen.nl
SUMMARY:Kerstgala
DESCRIPTION:
URL:https://muurhuizen.nl/agenda/kerstgala/
CATEGORIES:activiteit
END:VEVENT
BEGIN:VEVENT
DTSTART;VALUE=DATE:20231222
DTEND;VALUE=DATE:20231223
DTSTAMP:20260423T130121
CREATED:20230829T063014Z
LAST-MODIFIED:20230929T113052Z
UID:15983-1703203200-1703289599@muurhuizen.nl
SUMMARY:Kerstactiviteit
DESCRIPTION:
URL:https://muurhuizen.nl/agenda/kerstviering/
CATEGORIES:activiteit
END:VEVENT
END:VCALENDAR